BEGIN:VCALENDAR
VERSION:2.0
PRODID:-//Christ Lifeline - ECPv6.15.20//NONSGML v1.0//EN
CALSCALE:GREGORIAN
METHOD:PUBLISH
X-WR-CALNAME:Christ Lifeline
X-ORIGINAL-URL:https://christlifeline.org
X-WR-CALDESC:Events for Christ Lifeline
REFRESH-INTERVAL;VALUE=DURATION:PT1H
X-Robots-Tag:noindex
X-PUBLISHED-TTL:PT1H
BEGIN:VTIMEZONE
TZID:UTC
BEGIN:STANDARD
TZOFFSETFROM:+0000
TZOFFSETTO:+0000
TZNAME:UTC
DTSTART:20230101T000000
END:STANDARD
END:VTIMEZONE
BEGIN:VEVENT
DTSTART;TZID=UTC:20250625T110000
DTEND;TZID=UTC:20250625T140000
DTSTAMP:20260421T082959
CREATED:20250505T130853Z
LAST-MODIFIED:20250505T132509Z
UID:2707-1750849200-1750860000@christlifeline.org
SUMMARY:📚 MINNA EDUCATION OUTREACH 2025 📚
DESCRIPTION:The Minna Lifeline Education Outreach is a transformative initiative dedicated to empowering students through education\, mentorship\, and resource support. Organized by Christ Lifeline Ministry\, this outreach focuses on equipping young minds in Ogun State with the tools and knowledge needed to excel academically and build a strong foundation for their future. \nThrough this outreach\, students benefit from:📖 Educational Materials – Distribution of books\, jotters\, and essential learning resources.🎓 Mentorship & Career Guidance – Inspirational talks and career counseling to help students discover and maximize their potential.📚 Skill Development – Interactive workshops on literacy\, leadership\, and personal development.🙏 Spiritual Upliftment – Encouraging faith-based values and a growth mindset among students. \nWe’re shaping the next generation of leaders and change-makers. Join us in making a lasting impact! \nFor more details or to participate in the event\, join the Christ Lifeline Community or contact us on WhatsApp
URL:https://christlifeline.org/event/%f0%9f%93%9a-minna-education-outreach-2025-%f0%9f%93%9a/
LOCATION:Better treasure international school Gbeganu development area Minna\, Niger State\, Gbeganu development area Minna\, Niger State\, Minna\, Niger\, Nigeria
CATEGORIES:Education Outreach
ATTACH;FMTTYPE=image/jpeg:https://christlifeline.org/wp-content/uploads/2025/05/MINNA-scaled.jpg
END:VEVENT
BEGIN:VEVENT
DTSTART;TZID=UTC:20250527T110000
DTEND;TZID=UTC:20250527T130000
DTSTAMP:20260421T082959
CREATED:20250505T124702Z
LAST-MODIFIED:20250505T132426Z
UID:2702-1748343600-1748350800@christlifeline.org
SUMMARY:Oyo Orphanage Outreach
DESCRIPTION:This special event is designed to show love\, care\, and support to children in need as we celebrate the Children’s Day. \nJoin Christ Lifeline on 27th May 2025 at 11AM as we share the love of Christ with the wonderful children at \nJesus Kids Orphanage\, Ibadan\, Oyo State!📍 18\, Ifelodun Street\, Monatan\, Iwo Road\, Ibadan 200132\, Oyo \nTogether\, we can make a difference! 💜 \nFollow us for updates: @christlifeline \n#ChristLifeline #OyoOutreach #MakingADifference #LoveInAction #CommunityService #HopeForChildren \nFor more details or to participate in the event\, join the Christ Lifeline Community or contact us on WhatsApp
URL:https://christlifeline.org/event/oyo-orphanage-outreach/
LOCATION:Jesus Kids Orphanage\, Ibadan\, Oyo State!\, 18\, Ifelodun Street\, Monatan\, Iwo Road\, Ibadan 200132\, Oyo\, Ibadan\, Oyo\, 200132\, Nigeria
CATEGORIES:Orphanage Outreach
ATTACH;FMTTYPE=image/jpeg:https://christlifeline.org/wp-content/uploads/2025/05/Oyo.jpeg
END:VEVENT
BEGIN:VEVENT
DTSTART;TZID=UTC:20250517T200000
DTEND;TZID=UTC:20250517T210000
DTSTAMP:20260421T083000
CREATED:20250506T054708Z
LAST-MODIFIED:20250506T054708Z
UID:2716-1747512000-1747515600@christlifeline.org
SUMMARY:MAY 2025 Global Partners Meeting (Virtual)
DESCRIPTION:The Global Partners Meeting is a virtual gathering of all Christ Lifeline Ministry partners from around the world. This event is designed to bring together like-minded individuals committed to extending the lifeline of Christ to nations. \nJoin us as we discuss our accomplishments\, share future goals\, and explore new opportunities for impact. The meeting will feature reports on our outreach activities\, testimonies of lives changed\, and strategic plans for the coming year. \nThis is also a time for partners to connect\, exchange ideas\, and strengthen our collective mission to transform lives through Christ. Whether you’re a long-time partner or new to the Christ Lifeline family\, your voice and contributions are vital. \nEvent Details: \n\nDate: 17th May\, 2025\nTime: 8PM\nPlatform: Google Meet\n\nGoogle Meet joining info\nVideo call link: https://meet.google.com/end-shux-ypc \nCome prepared to be inspired and empowered as we unite in purpose and vision for a greater global impact!
URL:https://christlifeline.org/event/may-2025-global-partners-meeting-virtual/
ATTACH;FMTTYPE=image/jpeg:https://christlifeline.org/wp-content/uploads/2025/05/partners-scaled.jpg
END:VEVENT
BEGIN:VEVENT
DTSTART;TZID=UTC:20250312T100000
DTEND;TZID=UTC:20250312T120000
DTSTAMP:20260421T083000
CREATED:20250218T193754Z
LAST-MODIFIED:20250218T193754Z
UID:2549-1741773600-1741780800@christlifeline.org
SUMMARY:OGUN LIFELINE EDUCATION OUTREACH
DESCRIPTION:The Ogun Lifeline Education Outreach is a transformative initiative dedicated to empowering students through education\, mentorship\, and resource support. Organized by Christ Lifeline Ministry\, this outreach focuses on equipping young minds in Ogun State with the tools and knowledge needed to excel academically and build a strong foundation for their future. \nThrough this outreach\, students benefit from:📖 Educational Materials – Distribution of books\, jotters\, and essential learning resources.🎓 Mentorship & Career Guidance – Inspirational talks and career counseling to help students discover and maximize their potential.📚 Skill Development – Interactive workshops on literacy\, leadership\, and personal development.🙏 Spiritual Upliftment – Encouraging faith-based values and a growth mindset among students. \nWe’re shaping the next generation of leaders and change-makers. Join us in making a lasting impact!
URL:https://christlifeline.org/event/ogun-lifeline-education-outreach/
CATEGORIES:Education Outreach
END:VEVENT
BEGIN:VEVENT
DTSTART;TZID=UTC:20241214T100000
DTEND;TZID=UTC:20241214T150000
DTSTAMP:20260421T083000
CREATED:20240924T140940Z
LAST-MODIFIED:20240924T140940Z
UID:2085-1734170400-1734188400@christlifeline.org
SUMMARY:Orphanage Facility Tour & Year-End Party
DESCRIPTION:This special event is designed to show love\, care\, and support to children in need as we close out the year. \nEvent Highlights: \n\nOrphanage Facility Tour: A chance to visit the facility\, meet the children\, and see firsthand how your contributions have impacted their lives.\nYear-End Party: A fun-filled celebration with the children\, including games\, music\, food\, and gift-giving to bring joy to their hearts as we celebrate the festive season.\nGift Distribution: We will be distributing essential items\, school supplies\, and Christmas gifts to the children to make their holiday season special.\n\nThis is an opportunity for partners and volunteers to reflect on the year\, connect with the children\, and spread the love of Christ in a meaningful way. \nWe look forward to celebrating with you and making a lasting impact together! \nFor more details or to participate in the event\, visit www.christlifeline.org or contact christlifeline@gmail.com.
URL:https://christlifeline.org/event/orphanage-facility-tour-year-end-party/
CATEGORIES:Orphanage Outreach
ATTACH;FMTTYPE=image/jpeg:https://christlifeline.org/wp-content/uploads/2024/09/mt5a8923.jpg
END:VEVENT
BEGIN:VEVENT
DTSTART;TZID=UTC:20241130T140000
DTEND;TZID=UTC:20241130T170000
DTSTAMP:20260421T083000
CREATED:20240924T140047Z
LAST-MODIFIED:20241123T085433Z
UID:2083-1732975200-1732986000@christlifeline.org
SUMMARY:Global Partners Love Feast (Abuja\, Lagos & Minna)
DESCRIPTION:Christ Lifeline Ministry invites all partners to the Global Partners Love Feast—a special event of gratitude\, celebration\, and fellowship! Join us as we come together in Abuja\, Lagos\, and Minna to celebrate the incredible work God has done through our partnership and to strengthen our collective mission. \nThis event is an opportunity to reflect on the milestones we’ve reached this year\, share testimonies of lives touched\, and connect with fellow partners who share the vision of extending the lifeline of Christ to nations. \nThe Global Partners Love Feast is more than a gathering—it’s a celebration of the Kingdom work we’ve accomplished together and a moment to inspire even greater impact in the future. Come ready to be uplifted\, appreciated\, and encouraged as we continue our journey of transforming lives through Christ. \nEvent Highlights: \n\nA time of reflection and thanksgiving for the year’s accomplishments.\nFellowship with partners and ministry leaders.\nInspiring messages\, testimonies\, and music.\nSpecial appreciation for our dedicated partners.\n\nEvent Locations: \n\nAbuja\nLagos\nMinna\n\nWe look forward to celebrating with you#! \nFor more information\, visit www.christlifeline.org or contact christlifeline@gmail.com
URL:https://christlifeline.org/event/global-partners-love-feast-abuja-lagos-minna/
ATTACH;FMTTYPE=image/jpeg:https://christlifeline.org/wp-content/uploads/2024/11/WhatsApp-Image-2024-11-19-at-19.24.08.jpeg
END:VEVENT
BEGIN:VEVENT
DTSTART;TZID=UTC:20241127T090000
DTEND;TZID=UTC:20241127T120000
DTSTAMP:20260421T083000
CREATED:20240924T135331Z
LAST-MODIFIED:20241118T193907Z
UID:2081-1732698000-1732708800@christlifeline.org
SUMMARY:Lifeline Education Outreach (Abuja)
DESCRIPTION:Christ Lifeline Ministry is excited to announce the Lifeline Education Outreach in Abuja\, where we aim to inspire and empower the next generation of students. This outreach is designed to provide young minds with the tools and knowledge needed to excel both academically and in their personal lives. \nOur sessions will cover impactful teachings and we will distribute educational materials\, Lifeline Magazines\, etc. to ensure students are equipped for success. \nJoin us as we bring hope and opportunity to students in Abuja\, empowering them to become leaders and positive changemakers in their communities. \nEvent Details: \n\nDate: November 27th\, 2024\n\nTogether\, we can make a lasting difference in the lives of these students. To support or get involved\, visit www.christlifeline.org or contact christlifeline@gmail.com.
URL:https://christlifeline.org/event/lifeline-education-outreach-abuja/
CATEGORIES:Education Outreach
ATTACH;FMTTYPE=image/jpeg:https://christlifeline.org/wp-content/uploads/2024/09/IMG-20241115-WA0010.jpg
END:VEVENT
BEGIN:VEVENT
DTSTART;TZID=UTC:20241109T200000
DTEND;TZID=UTC:20241109T210000
DTSTAMP:20260421T083000
CREATED:20240924T134519Z
LAST-MODIFIED:20240924T134519Z
UID:2079-1731182400-1731186000@christlifeline.org
SUMMARY:Global Partners Meeting (Virtual)
DESCRIPTION:The Global Partners Meeting is a virtual gathering of all Christ Lifeline Ministry partners from around the world. This event is designed to bring together like-minded individuals committed to extending the lifeline of Christ to nations. \nJoin us as we discuss our accomplishments\, share future goals\, and explore new opportunities for impact. The meeting will feature reports on our outreach activities\, testimonies of lives changed\, and strategic plans for the coming year. \nThis is also a time for partners to connect\, exchange ideas\, and strengthen our collective mission to transform lives through Christ. Whether you’re a long-time partner or new to the Christ Lifeline family\, your voice and contributions are vital. \nEvent Details: \n\nDate: November 9th\, 2024\nTime: 8PM\nPlatform: Google Meet\n\nGoogle Meet joining info\nVideo call link: https://meet.google.com/end-shux-ypc \nCome prepared to be inspired and empowered as we unite in purpose and vision for a greater global impact!
URL:https://christlifeline.org/event/global-partners-meeting-virtual/
ATTACH;FMTTYPE=image/jpeg:https://christlifeline.org/wp-content/uploads/2024/09/DSC00025-scaled.jpg
END:VEVENT
BEGIN:VEVENT
DTSTART;TZID=UTC:20241001T100000
DTEND;TZID=UTC:20241001T140000
DTSTAMP:20260421T083000
CREATED:20240923T231529Z
LAST-MODIFIED:20240923T231613Z
UID:2070-1727776800-1727791200@christlifeline.org
SUMMARY:Lagos Lifeline Orphanage Outreach 2024
DESCRIPTION:On Tuesday\, October 1st\, 2024\, Christ Lifeline Ministry will be visiting the Compassionate Orphanage in Lagos to share the love of Christ with the children. We invite you to be a part of this outreach by providing material support and spiritual guidance to these young ones in need. \n📍 Location: Compassionate Orphanage\, Greenland Estate\, 6/8\, Compassionate Street\, Idowu-Egba\, Alimosho\, Lagos\n📅 Date: October 1st\, 2024\n⏰ Time: All day event \nFor donations or to participate\, reach out to us. Let’s extend lifelines together! 🙏 \n#ChristLifelineMinistry #OrphanageOutreach #LagosOutreach #LoveInAction #GivingBack #ExtendingLifelines
URL:https://christlifeline.org/event/lagos-lifeline-orphanage-outreach-2024/
LOCATION:Compassionate Orphanage\, Greenland Estate\, 6/8\, Compassionate Street\, Idowu-Egba\, Alimosho\, Lagos\, Lagos\, Nigeria
ATTACH;FMTTYPE=image/jpeg:https://christlifeline.org/wp-content/uploads/2024/09/WhatsApp-Image-2024-09-19-at-16.41.53_e111298f.jpg
END:VEVENT
END:VCALENDAR